BEGIN:VCALENDAR
VERSION:2.0
PRODID:-//Lower Hutt Scottish Country Dance Club - ECPv4.6.2//NONSGML v1.0//EN
CALSCALE:GREGORIAN
METHOD:PUBLISH
X-WR-CALNAME:Lower Hutt Scottish Country Dance Club
X-ORIGINAL-URL:https://www.lowerhuttscd.org.nz
X-WR-CALDESC:Events for Lower Hutt Scottish Country Dance Club
BEGIN:VEVENT
DTSTART;TZID=Pacific/Auckland:20250720T140000
DTEND;TZID=Pacific/Auckland:20250720T180000
DTSTAMP:20260424T181158
CREATED:20250618T042831Z
LAST-MODIFIED:20250620T224547Z
UID:4887-1753020000-1753034400@www.lowerhuttscd.org.nz
SUMMARY:Levin Annual Dance
DESCRIPTION:Ann Dance Prog 2025 \n
URL:https://www.lowerhuttscd.org.nz/index.php/event/4887/
CATEGORIES:Region Events
END:VEVENT
END:VCALENDAR