BEGIN:VCALENDAR
VERSION:2.0
PRODID:-//Lower Hutt Scottish Country Dance Club - ECPv4.6.2//NONSGML v1.0//EN
CALSCALE:GREGORIAN
METHOD:PUBLISH
X-WR-CALNAME:Lower Hutt Scottish Country Dance Club
X-ORIGINAL-URL:https://www.lowerhuttscd.org.nz
X-WR-CALDESC:Events for Lower Hutt Scottish Country Dance Club
BEGIN:VEVENT
DTSTART;TZID=Pacific/Auckland:20250823T193000
DTEND;TZID=Pacific/Auckland:20250823T230000
DTSTAMP:20260424T165003
CREATED:20250618T044758Z
LAST-MODIFIED:20250620T224415Z
UID:4894-1755977400-1755990000@www.lowerhuttscd.org.nz
SUMMARY:Johnsonville/Capital City Annual Dance
DESCRIPTION:Johnsonville-Capital-City-Annual-Dance-2025 \n
URL:https://www.lowerhuttscd.org.nz/index.php/event/4894/
LOCATION:Mein Street\, Newtown\, Wellington
CATEGORIES:Region Events
END:VEVENT
END:VCALENDAR