BEGIN:VCALENDAR
VERSION:2.0
PRODID:-//Lower Hutt Scottish Country Dance Club - ECPv4.6.2//NONSGML v1.0//EN
CALSCALE:GREGORIAN
METHOD:PUBLISH
X-WR-CALNAME:Lower Hutt Scottish Country Dance Club
X-ORIGINAL-URL:https://www.lowerhuttscd.org.nz
X-WR-CALDESC:Events for Lower Hutt Scottish Country Dance Club
BEGIN:VEVENT
DTSTART;TZID=Pacific/Auckland:20240709T124500
DTEND;TZID=Pacific/Auckland:20240709T124500
DTSTAMP:20260424T121955
CREATED:20240705T083820Z
LAST-MODIFIED:20240705T083820Z
UID:4499-1720529100-1720529100@www.lowerhuttscd.org.nz
SUMMARY:Advanced Class
DESCRIPTION:
URL:https://www.lowerhuttscd.org.nz/index.php/event/advanced-class-2/
END:VEVENT
END:VCALENDAR