BEGIN:VCALENDAR
VERSION:2.0
PRODID:-//Lower Hutt Scottish Country Dance Club - ECPv4.6.2//NONSGML v1.0//EN
CALSCALE:GREGORIAN
METHOD:PUBLISH
X-WR-CALNAME:Lower Hutt Scottish Country Dance Club
X-ORIGINAL-URL:https://www.lowerhuttscd.org.nz
X-WR-CALDESC:Events for Lower Hutt Scottish Country Dance Club
BEGIN:VEVENT
DTSTART;TZID=Pacific/Auckland:20240604T193000
DTEND;TZID=Pacific/Auckland:20240604T213000
DTSTAMP:20260424T192758
CREATED:20240325T014054Z
LAST-MODIFIED:20240325T014054Z
UID:4356-1717529400-1717536600@www.lowerhuttscd.org.nz
SUMMARY:Basics Region Class
DESCRIPTION:
URL:https://www.lowerhuttscd.org.nz/index.php/event/basics-region-class-2/
END:VEVENT
END:VCALENDAR