BEGIN:VCALENDAR
VERSION:2.0
PRODID:-//Lower Hutt Scottish Country Dance Club - ECPv4.6.2//NONSGML v1.0//EN
CALSCALE:GREGORIAN
METHOD:PUBLISH
X-WR-CALNAME:Lower Hutt Scottish Country Dance Club
X-ORIGINAL-URL:https://www.lowerhuttscd.org.nz
X-WR-CALDESC:Events for Lower Hutt Scottish Country Dance Club
BEGIN:VEVENT
DTSTART;TZID=Pacific/Auckland:20260528T193000
DTEND;TZID=Pacific/Auckland:20260528T220000
DTSTAMP:20260422T144101
CREATED:20260422T005458Z
LAST-MODIFIED:20260422T005458Z
UID:5315-1779996600-1780005600@www.lowerhuttscd.org.nz
SUMMARY:Capital City SCDC Birthday Programme
DESCRIPTION:2026528 CCSCDC Birthday Programme \n
URL:https://www.lowerhuttscd.org.nz/index.php/event/capital-city-scdc-birthday-programme/
LOCATION:Mein Street\, Newtown\, Wellington
CATEGORIES:Region Events
END:VEVENT
END:VCALENDAR