BEGIN:VCALENDAR
VERSION:2.0
PRODID:-//Lower Hutt Scottish Country Dance Club - ECPv4.6.2//NONSGML v1.0//EN
CALSCALE:GREGORIAN
METHOD:PUBLISH
X-WR-CALNAME:Lower Hutt Scottish Country Dance Club
X-ORIGINAL-URL:https://www.lowerhuttscd.org.nz
X-WR-CALDESC:Events for Lower Hutt Scottish Country Dance Club
BEGIN:VEVENT
DTSTART;TZID=Pacific/Auckland:20241102T193000
DTEND;TZID=Pacific/Auckland:20241102T233000
DTSTAMP:20260424T105117
CREATED:20241004T205823Z
LAST-MODIFIED:20241004T205823Z
UID:4616-1730575800-1730590200@www.lowerhuttscd.org.nz
SUMMARY:Carterton Annual Dance
DESCRIPTION:Carterton Dance Programme 2024 \n
URL:https://www.lowerhuttscd.org.nz/index.php/event/carterton-annual-dance-4/
LOCATION:Holloway St\, Carterton\, New Zealand
END:VEVENT
END:VCALENDAR