BEGIN:VCALENDAR
VERSION:2.0
PRODID:-//Lower Hutt Scottish Country Dance Club - ECPv4.6.2//NONSGML v1.0//EN
CALSCALE:GREGORIAN
METHOD:PUBLISH
X-WR-CALNAME:Lower Hutt Scottish Country Dance Club
X-ORIGINAL-URL:https://www.lowerhuttscd.org.nz
X-WR-CALDESC:Events for Lower Hutt Scottish Country Dance Club
BEGIN:VEVENT
DTSTART;TZID=Pacific/Auckland:20251129T193000
DTEND;TZID=Pacific/Auckland:20251129T230000
DTSTAMP:20260424T192956
CREATED:20251018T073454Z
LAST-MODIFIED:20251018T073454Z
UID:5046-1764444600-1764457200@www.lowerhuttscd.org.nz
SUMMARY:Carterton Annual Dance
DESCRIPTION:25 Anniversary Dance. \nThere will be a brunch on Sunday following the dance. Get in touch with Elaine Laidlaw if you are interested. \n  \nCarterton Programme \n
URL:https://www.lowerhuttscd.org.nz/index.php/event/carterton-annual-dance-5/
LOCATION:Holloway St\, Carterton\, New Zealand
CATEGORIES:Region Events
END:VEVENT
END:VCALENDAR