BEGIN:VCALENDAR
VERSION:2.0
PRODID:-//Lower Hutt Scottish Country Dance Club - ECPv4.6.2//NONSGML v1.0//EN
CALSCALE:GREGORIAN
METHOD:PUBLISH
X-WR-CALNAME:Lower Hutt Scottish Country Dance Club
X-ORIGINAL-URL:https://www.lowerhuttscd.org.nz
X-WR-CALDESC:Events for Lower Hutt Scottish Country Dance Club
BEGIN:VEVENT
DTSTART;TZID=Pacific/Auckland:20250412T130000
DTEND;TZID=Pacific/Auckland:20250412T163000
DTSTAMP:20260424T140257
CREATED:20250406T014846Z
LAST-MODIFIED:20250510T060432Z
UID:4781-1744462800-1744475400@www.lowerhuttscd.org.nz
SUMMARY:'Early Dances' Day
DESCRIPTION:Cost: $15\nIntermediate level and up. \n
URL:https://www.lowerhuttscd.org.nz/index.php/event/early-dances-day/
LOCATION:18 Bassett Rd\, Johnsonville
CATEGORIES:Region Events
END:VEVENT
END:VCALENDAR