BEGIN:VCALENDAR
VERSION:2.0
PRODID:-//Lower Hutt Scottish Country Dance Club - ECPv4.6.2//NONSGML v1.0//EN
CALSCALE:GREGORIAN
METHOD:PUBLISH
X-WR-CALNAME:Lower Hutt Scottish Country Dance Club
X-ORIGINAL-URL:https://www.lowerhuttscd.org.nz
X-WR-CALDESC:Events for Lower Hutt Scottish Country Dance Club
BEGIN:VEVENT
DTSTART;TZID=Pacific/Auckland:20241030T193000
DTEND;TZID=Pacific/Auckland:20241030T213000
DTSTAMP:20260424T093154
CREATED:20241004T205524Z
LAST-MODIFIED:20241004T205524Z
UID:4612-1730316600-1730323800@www.lowerhuttscd.org.nz
SUMMARY:Eastbourne Final Night
DESCRIPTION:Cheers Maggie \nEASTBOURNE Dance \n
URL:https://www.lowerhuttscd.org.nz/index.php/event/eastbourne-final-night/
LOCATION:Muritai Rd\, Eastbourne
END:VEVENT
END:VCALENDAR