BEGIN:VCALENDAR
VERSION:2.0
PRODID:-//Lower Hutt Scottish Country Dance Club - ECPv4.6.2//NONSGML v1.0//EN
CALSCALE:GREGORIAN
METHOD:PUBLISH
X-WR-CALNAME:Lower Hutt Scottish Country Dance Club
X-ORIGINAL-URL:https://www.lowerhuttscd.org.nz
X-WR-CALDESC:Events for Lower Hutt Scottish Country Dance Club
BEGIN:VEVENT
DTSTART;TZID=Pacific/Auckland:20250927T140000
DTEND;TZID=Pacific/Auckland:20250927T180000
DTSTAMP:20260424T180400
CREATED:20250824T014852Z
LAST-MODIFIED:20250824T014852Z
UID:4986-1758981600-1758996000@www.lowerhuttscd.org.nz
SUMMARY:Glendarroch Annual Dance
DESCRIPTION:2025 formal programme – Glendarroch \n
URL:https://www.lowerhuttscd.org.nz/index.php/event/glendarroch-annual-dance-6/
LOCATION:Jones Street\, Whanganui\, New Zealand
CATEGORIES:Region Events
END:VEVENT
END:VCALENDAR