BEGIN:VCALENDAR
VERSION:2.0
PRODID:-//Lower Hutt Scottish Country Dance Club - ECPv4.6.2//NONSGML v1.0//EN
CALSCALE:GREGORIAN
METHOD:PUBLISH
X-WR-CALNAME:Lower Hutt Scottish Country Dance Club
X-ORIGINAL-URL:https://www.lowerhuttscd.org.nz
X-WR-CALDESC:Events for Lower Hutt Scottish Country Dance Club
BEGIN:VEVENT
DTSTART;TZID=Pacific/Auckland:20241104T203000
DTEND;TZID=Pacific/Auckland:20241104T210000
DTSTAMP:20260424T122339
CREATED:20241029T043443Z
LAST-MODIFIED:20241029T043443Z
UID:4661-1730752200-1730754000@www.lowerhuttscd.org.nz
SUMMARY:LHSCDC AGM
DESCRIPTION:LHSCD Accounts 2023-2024 – Google Sheets (2) \nLHSCDC FInancial Report 2023-24 \nMinutes of AGM 2023 \nPresident’s Report 2024 \nAGM Agenda 2024 \n
URL:https://www.lowerhuttscd.org.nz/index.php/event/lhscdc-agm/
LOCATION:Mitchell St\, Lower Hutt\, Lower Hutt\, 5010\, New Zealand
END:VEVENT
END:VCALENDAR