BEGIN:VCALENDAR
VERSION:2.0
PRODID:-//Lower Hutt Scottish Country Dance Club - ECPv4.6.2//NONSGML v1.0//EN
CALSCALE:GREGORIAN
METHOD:PUBLISH
X-WR-CALNAME:Lower Hutt Scottish Country Dance Club
X-ORIGINAL-URL:https://www.lowerhuttscd.org.nz
X-WR-CALDESC:Events for Lower Hutt Scottish Country Dance Club
BEGIN:VEVENT
DTSTART;TZID=Pacific/Auckland:20250628T193000
DTEND;TZID=Pacific/Auckland:20250628T233000
DTSTAMP:20260424T181439
CREATED:20250414T102350Z
LAST-MODIFIED:20250510T235008Z
UID:4794-1751139000-1751153400@www.lowerhuttscd.org.nz
SUMMARY:Linden Annual Dance
DESCRIPTION:Linden Annual Dance Programme 2025 \n
URL:https://www.lowerhuttscd.org.nz/index.php/event/linden-annual-dance-8/
LOCATION:1 Ottawa Rd\, Wellington\, New Zealand
CATEGORIES:Region Events
END:VEVENT
END:VCALENDAR