BEGIN:VCALENDAR
VERSION:2.0
PRODID:-//Lower Hutt Scottish Country Dance Club - ECPv4.6.2//NONSGML v1.0//EN
CALSCALE:GREGORIAN
METHOD:PUBLISH
X-WR-CALNAME:Lower Hutt Scottish Country Dance Club
X-ORIGINAL-URL:https://www.lowerhuttscd.org.nz
X-WR-CALDESC:Events for Lower Hutt Scottish Country Dance Club
BEGIN:VEVENT
DTSTART;TZID=Pacific/Auckland:20240907T193000
DTEND;TZID=Pacific/Auckland:20240907T193000
DTSTAMP:20260424T124312
CREATED:20240705T083009Z
LAST-MODIFIED:20240708T031047Z
UID:4489-1725737400-1725737400@www.lowerhuttscd.org.nz
SUMMARY:Lower Hutt 70th Anniversary Dance
DESCRIPTION:2024 Lower Hutt Formal \n
URL:https://www.lowerhuttscd.org.nz/index.php/event/lower-hutt-70th-anniversary-dance/
LOCATION:586 High St\, Lower Hutt\, 5010\, New Zealand
END:VEVENT
END:VCALENDAR