BEGIN:VCALENDAR
VERSION:2.0
PRODID:-//Lower Hutt Scottish Country Dance Club - ECPv4.6.2//NONSGML v1.0//EN
CALSCALE:GREGORIAN
METHOD:PUBLISH
X-WR-CALNAME:Lower Hutt Scottish Country Dance Club
X-ORIGINAL-URL:https://www.lowerhuttscd.org.nz
X-WR-CALDESC:Events for Lower Hutt Scottish Country Dance Club
BEGIN:VEVENT
DTSTART;TZID=Pacific/Auckland:20241118T193000
DTEND;TZID=Pacific/Auckland:20241118T213000
DTSTAMP:20260424T140409
CREATED:20241020T071218Z
LAST-MODIFIED:20241020T071336Z
UID:4634-1731958200-1731965400@www.lowerhuttscd.org.nz
SUMMARY:Lower Hutt Final Night
DESCRIPTION:Final Night 2024 \n
URL:https://www.lowerhuttscd.org.nz/index.php/event/lower-hutt-final-night-4/
LOCATION:Mitchell St\, Lower Hutt\, Lower Hutt\, 5010\, New Zealand
END:VEVENT
END:VCALENDAR