BEGIN:VCALENDAR
VERSION:2.0
PRODID:-//Lower Hutt Scottish Country Dance Club - ECPv4.6.2//NONSGML v1.0//EN
CALSCALE:GREGORIAN
METHOD:PUBLISH
X-WR-CALNAME:Lower Hutt Scottish Country Dance Club
X-ORIGINAL-URL:https://www.lowerhuttscd.org.nz
X-WR-CALDESC:Events for Lower Hutt Scottish Country Dance Club
BEGIN:VEVENT
DTSTART;TZID=Pacific/Auckland:20240624T193000
DTEND;TZID=Pacific/Auckland:20240624T213000
DTSTAMP:20260424T153311
CREATED:20240325T021008Z
LAST-MODIFIED:20240325T021008Z
UID:4378-1719257400-1719264600@www.lowerhuttscd.org.nz
SUMMARY:Mid Winter Night- Music by Cranberry Tarts
DESCRIPTION:
URL:https://www.lowerhuttscd.org.nz/index.php/event/mid-winter-night-music-by-cranberry-tarts/
LOCATION:Mitchell St\, Lower Hutt\, Lower Hutt\, 5010\, New Zealand
END:VEVENT
END:VCALENDAR