BEGIN:VCALENDAR
VERSION:2.0
PRODID:-//Lower Hutt Scottish Country Dance Club - ECPv4.6.2//NONSGML v1.0//EN
CALSCALE:GREGORIAN
METHOD:PUBLISH
X-WR-CALNAME:Lower Hutt Scottish Country Dance Club
X-ORIGINAL-URL:https://www.lowerhuttscd.org.nz
X-WR-CALDESC:Events for Lower Hutt Scottish Country Dance Club
BEGIN:VEVENT
DTSTART;TZID=Pacific/Auckland:20241019T000000
DTEND;TZID=Pacific/Auckland:20241019T000000
DTSTAMP:20260424T110414
CREATED:20240705T083654Z
LAST-MODIFIED:20241004T191127Z
UID:4496-1729296000-1729296000@www.lowerhuttscd.org.nz
SUMMARY:Shetland Viking Dance :: CANCELLED
DESCRIPTION:Sorry to report that we have cancelled the Viking Shetland Dance Evening on Saturday October 19th at the Wellington Pipe Band Hall. \nWe discovered that there are seven other dances planned for the same evening\, and the number of advance bookings we received did not make the evening viable. \nOur apologies to those who have already made bookings – we will be in touch with you directly to arrange for a refund of your tickets.  (Please note that our Treasurer is away until the end of October\, so the refunds will be held until then.) \n \n
URL:https://www.lowerhuttscd.org.nz/index.php/event/shetland-viking-dance-2/
END:VEVENT
END:VCALENDAR