BEGIN:VCALENDAR
VERSION:2.0
PRODID:-//Lower Hutt Scottish Country Dance Club - ECPv4.6.2//NONSGML v1.0//EN
CALSCALE:GREGORIAN
METHOD:PUBLISH
X-WR-CALNAME:Lower Hutt Scottish Country Dance Club
X-ORIGINAL-URL:https://www.lowerhuttscd.org.nz
X-WR-CALDESC:Events for Lower Hutt Scottish Country Dance Club
BEGIN:VEVENT
DTSTART;TZID=Pacific/Auckland:20250524T193000
DTEND;TZID=Pacific/Auckland:20250524T233000
DTSTAMP:20260424T153752
CREATED:20250414T102014Z
LAST-MODIFIED:20250510T060411Z
UID:4790-1748115000-1748129400@www.lowerhuttscd.org.nz
SUMMARY:Tawa Annual Dance
DESCRIPTION:2025-05-24_Tawa Annual Dance \n2025-05-24_Tawa Annual Dance (Cribs) \n
URL:https://www.lowerhuttscd.org.nz/index.php/event/tawa-annual-dance-6/
LOCATION:1 Ottawa Rd\, Wellington\, New Zealand
CATEGORIES:Region Events
END:VEVENT
END:VCALENDAR