BEGIN:VCALENDAR
VERSION:2.0
PRODID:-//Lower Hutt Scottish Country Dance Club - ECPv4.6.2//NONSGML v1.0//EN
CALSCALE:GREGORIAN
METHOD:PUBLISH
X-WR-CALNAME:Lower Hutt Scottish Country Dance Club
X-ORIGINAL-URL:https://www.lowerhuttscd.org.nz
X-WR-CALDESC:Events for Lower Hutt Scottish Country Dance Club
BEGIN:VEVENT
DTSTART;TZID=Pacific/Auckland:20241114T193000
DTEND;TZID=Pacific/Auckland:20241114T213000
DTSTAMP:20260424T140301
CREATED:20241029T042906Z
LAST-MODIFIED:20241029T042906Z
UID:4657-1731612600-1731619800@www.lowerhuttscd.org.nz
SUMMARY:Tawa Final Night
DESCRIPTION:2024-11-14_Tawa Final Night_v2 \n
URL:https://www.lowerhuttscd.org.nz/index.php/event/tawa-final-night-2/
LOCATION:13 Davies St\, Tawa\, Wellington\, New Zealand
END:VEVENT
END:VCALENDAR