BEGIN:VCALENDAR
VERSION:2.0
PRODID:-//Lower Hutt Scottish Country Dance Club - ECPv4.6.2//NONSGML v1.0//EN
CALSCALE:GREGORIAN
METHOD:PUBLISH
X-WR-CALNAME:Lower Hutt Scottish Country Dance Club
X-ORIGINAL-URL:https://www.lowerhuttscd.org.nz
X-WR-CALDESC:Events for Lower Hutt Scottish Country Dance Club
BEGIN:VEVENT
DTSTART;TZID=Pacific/Auckland:20240720T180000
DTEND;TZID=Pacific/Auckland:20240720T180000
DTSTAMP:20260424T152641
CREATED:20240705T081148Z
LAST-MODIFIED:20240705T081148Z
UID:4472-1721498400-1721498400@www.lowerhuttscd.org.nz
SUMMARY:Upper Hutt Annual Dance
DESCRIPTION:2024 Upper Hutt Annual Dance Programme \n
URL:https://www.lowerhuttscd.org.nz/index.php/event/upper-hutt-annual-dance-4/
LOCATION:2 Benzie Ave\, Elderslea\, Upper Hutt\, New Zealand
END:VEVENT
END:VCALENDAR