BEGIN:VCALENDAR
VERSION:2.0
PRODID:-//Lower Hutt Scottish Country Dance Club - ECPv4.6.2//NONSGML v1.0//EN
CALSCALE:GREGORIAN
METHOD:PUBLISH
X-WR-CALNAME:Lower Hutt Scottish Country Dance Club
X-ORIGINAL-URL:https://www.lowerhuttscd.org.nz
X-WR-CALDESC:Events for Lower Hutt Scottish Country Dance Club
BEGIN:VEVENT
DTSTART;TZID=Pacific/Auckland:20241120T193000
DTEND;TZID=Pacific/Auckland:20241120T213000
DTSTAMP:20260424T153026
CREATED:20241029T042246Z
LAST-MODIFIED:20241029T042246Z
UID:4650-1732131000-1732138200@www.lowerhuttscd.org.nz
SUMMARY:Upper Hutt Final Night
DESCRIPTION:Upper Hutt Final Night programme 2024 \n
URL:https://www.lowerhuttscd.org.nz/index.php/event/upper-hutt-final-night-4/
LOCATION:2 Benzie Ave\, Elderslea\, Upper Hutt\, New Zealand
END:VEVENT
END:VCALENDAR