BEGIN:VCALENDAR
VERSION:2.0
PRODID:-//Lower Hutt Scottish Country Dance Club - ECPv4.6.2//NONSGML v1.0//EN
CALSCALE:GREGORIAN
METHOD:PUBLISH
X-WR-CALNAME:Lower Hutt Scottish Country Dance Club
X-ORIGINAL-URL:https://www.lowerhuttscd.org.nz
X-WR-CALDESC:Events for Lower Hutt Scottish Country Dance Club
BEGIN:VEVENT
DTSTART;TZID=Pacific/Auckland:20250809T190000
DTEND;TZID=Pacific/Auckland:20250809T230000
DTSTAMP:20260424T193138
CREATED:20250722T040005Z
LAST-MODIFIED:20250722T040005Z
UID:4948-1754766000-1754780400@www.lowerhuttscd.org.nz
SUMMARY:Waikanae 50th Anniversary
DESCRIPTION:Waikanae Dance Programme 2025 \n
URL:https://www.lowerhuttscd.org.nz/index.php/event/waikanae-50th-anniversary/
LOCATION:Cnr Aorangi and Tutanekai Streets\, Paraparaumu\, New Zealand
CATEGORIES:Region Events
END:VEVENT
END:VCALENDAR