BEGIN:VCALENDAR
VERSION:2.0
PRODID:-//Lower Hutt Scottish Country Dance Club - ECPv4.6.2//NONSGML v1.0//EN
CALSCALE:GREGORIAN
METHOD:PUBLISH
X-WR-CALNAME:Lower Hutt Scottish Country Dance Club
X-ORIGINAL-URL:https://www.lowerhuttscd.org.nz
X-WR-CALDESC:Events for Lower Hutt Scottish Country Dance Club
BEGIN:VEVENT
DTSTART;TZID=Pacific/Auckland:20241108T193000
DTEND;TZID=Pacific/Auckland:20241108T213000
DTSTAMP:20260424T140455
CREATED:20241107T035810Z
LAST-MODIFIED:20241107T035810Z
UID:4686-1731094200-1731101400@www.lowerhuttscd.org.nz
SUMMARY:Waikanae Final Night
DESCRIPTION:WSCDC Final Night Programme – 8 November 2024 \n
URL:https://www.lowerhuttscd.org.nz/index.php/event/waikanae-final-night/
LOCATION:23 Rimu Rd\, Waikanae\, New Zealand
END:VEVENT
END:VCALENDAR